BEGIN:VCALENDAR
VERSION:2.0
CALSCALE:GREGORIAN
PRODID:-//WordPress//RSVPMaker//EN
METHOD:REQUEST
BEGIN:VEVENT
DTSTAMP:20260423T162140Z
UID:D403137434343677B98EFC88CBD5493D@rsvpmaker.com
SEQUENCE:0
STATUS:CONFIRMED
DTSTART:20240829T220000Z
DTEND:20240830T010000Z
LOCATION:See\: https\://elevateyourbest.com/rsvpmaker/gather-around-th
 e-table-in-new-england-august-2024/
SUMMARY:Gather Around the Table in New England - August 2024
DESCRIPTION:Event info\: https\://elevateyourbest.com/rsvpmaker/gather
 -around-the-table-in-new-england-august-2024/
END:VEVENT
END:VCALENDAR